BEGIN:VCALENDAR
VERSION:2.0
PRODID:icalendar-ruby
CALSCALE:GREGORIAN
METHOD:PUBLISH
BEGIN:VEVENT
DTSTAMP:20260419T162304Z
UID:22-652594@sprucestreetumc.org
DTSTART:20261015T230000Z
DTEND:20261016T000000Z
CLASS:PUBLIC
CREATED:20260419T091204
DESCRIPTION:Choir Practice
LAST-MODIFIED:20260419T091204
LOCATION:
SUMMARY:Choir Practice
URL;VALUE=URI:https://sprucestreetumc.org/events/choir-practice--22/2026-10
 -15
END:VEVENT
END:VCALENDAR
