BEGIN:VCALENDAR
VERSION:2.0
PRODID:icalendar-ruby
CALSCALE:GREGORIAN
METHOD:PUBLISH
BEGIN:VEVENT
DTSTAMP:20260419T190941Z
UID:22-653194@sprucestreetumc.org
DTSTART:20261029T230000Z
DTEND:20261030T000000Z
CLASS:PUBLIC
CREATED:20260419T125357
DESCRIPTION:Choir Practice
LAST-MODIFIED:20260419T125357
LOCATION:
SUMMARY:Choir Practice
URL;VALUE=URI:https://sprucestreetumc.org/events/choir-practice--22/2026-10
 -29
END:VEVENT
END:VCALENDAR
