BEGIN:VCALENDAR
VERSION:2.0
PRODID:icalendar-ruby
CALSCALE:GREGORIAN
METHOD:PUBLISH
BEGIN:VEVENT
DTSTAMP:20260422T153140Z
UID:9-663709@sprucestreetumc.org
DTSTART:20261028T220000Z
DTEND:20261028T230000Z
CLASS:PUBLIC
CREATED:20260422T112508
DESCRIPTION:
LAST-MODIFIED:20260422T112508
LOCATION:Spruce Street UMC
SUMMARY:Prayer Meeting (Zoom)
URL;VALUE=URI:https://sprucestreetumc.org/events/prayer-meeting-zoom--9/202
 6-10-28
ATTACH;FILENAME=Crossed-Hands.jpeg;FMTTYPE=image/jpeg:https://dq5pwpg1q8ru0
 .cloudfront.net/2025/01/25/14/21/04/37b931f0-e64c-41c2-b09a-5bcc3edb50c0/C
 rossed-Hands.jpeg
END:VEVENT
END:VCALENDAR
