BEGIN:VCALENDAR
VERSION:2.0
PRODID:icalendar-ruby
CALSCALE:GREGORIAN
METHOD:PUBLISH
BEGIN:VEVENT
DTSTAMP:20260420T034729Z
UID:15-654317@sprucestreetumc.org
DTSTART:20261025T144500Z
DTEND:20261025T160000Z
CLASS:PUBLIC
CREATED:20260419T201832
DESCRIPTION:
LAST-MODIFIED:20260419T201832
LOCATION:Spruce Street UMC
SUMMARY:Second Service
URL;VALUE=URI:https://sprucestreetumc.org/events/second-service/2026-10-25
END:VEVENT
END:VCALENDAR
