BEGIN:VCALENDAR
VERSION:2.0
PRODID:icalendar-ruby
CALSCALE:GREGORIAN
METHOD:PUBLISH
BEGIN:VEVENT
DTSTAMP:20260422T023837Z
UID:7-662348@sprucestreetumc.org
DTSTART:20261025T140000Z
DTEND:20261025T143000Z
CLASS:PUBLIC
CREATED:20260421T212253
DESCRIPTION:
LAST-MODIFIED:20260421T212253
LOCATION:Spruce Street UMC
SUMMARY:Sunday School
URL;VALUE=URI:https://sprucestreetumc.org/events/sunday-school/2026-10-25
END:VEVENT
END:VCALENDAR
